Workbook
Name _Hlk151380520: 'Daily Buybacks'!#REF!
Name _Hlk151380532: 'Daily Buybacks'!#REF!

Sheet Daily Buybacks
B3: Date | C3: Volume | D3: Transaction Weighted Avg Price (EURO) | E3: Transaction amount (EURO)
B4: 46150 | C4: 875813 | D4: 22.8359 | E4: 19999978
B5: 46153 | C5: 861111 | D5: 23.2258 | E5: 19999992
B6: 46161 | C6: 834289 | D6: 23.9725 | E6: 19999993
B7: 46162 | C7: 837412 | D7: 23.8831 | E7: 19999995
B8: 46163 | C8: 840159 | D8: 23.805 | E8: 19999985
B9: 46164 | C9: 851216 | D9: 23.3979 | E9: 19916667
B10: 46170 | C10: 880944 | D10: 22.7029 | E10: 19999984
B11: 46171 | C11: 890412 | D11: 22.4615 | E11: 19999989
B12: 46174 | C12: 873228 | D12: 22.9035 | E12: 19999978
B13: 46175 | C13: 871463 | D13: 22.9499 | E13: 19999989
B14: 46176 | C14: 852925 | D14: 23.4487 | E14: 19999982
B15: 46177 | C15: 858638 | D15: 23.2927 | E15: 19999997
... B87: 46279 | C87: 620714 | D87: 24.1657 | E87: 14999988
B90: The information is updated on Wednesdays on a weekly basis
B91: Press Release: | C91: Eni launches the new share buyback program

Sheet Total Buybacks
C4: Buybacks to Date: | D4: Volume | E4: Transaction amount (€ thousand)
C5: =+MAX('Daily Buybacks'!B4:B500035) -> 46279 | D5: =+SUM('Daily Buybacks'!C4:C113) -> 69995483 | E5: =+SUM('Daily Buybacks'!E4:E113)/1000 -> 1579915.8
C8: Data di riferimento | D8: Volumi acquistati | E8: Controvalore (€ migliaia)
C9: =+C5 -> 46279 | D9: =+D5 -> 69995483 | E9: =+E5 -> 1579915.8
C12: BUYBACK completed | D12: Volume | E12: Transaction amount (M€) | F12: % Cumulative Buyback completed
C13: 1Q
C14: 2Q | D14: =SUM('Daily Buybacks'!C4:C4)/1000000 -> 0.875813 | E14: =SUM('Daily Buybacks'!E4:E33)/1000000 -> 599.9164 | F14: =E14/$E$19 -> 0.33328689
C15: 3Q | D15: =SUM('Daily Buybacks'!#REF!)/1000000 -> #REF! | E15: =SUM('Daily Buybacks'!#REF!)/1000000 -> #REF! | F15: =(E15+E14)/$E$19 -> #REF!
C16: 4Q | D16: =SUM('Daily Buybacks'!#REF!)/1000000 -> #REF! | E16: =SUM('Daily Buybacks'!#REF!)/1000000 -> #REF! | F16: =(E16+E15+E14)/$E$19 -> #REF!
C17: 2026 | D17: =SUM('Daily Buybacks'!C5:C36)/1000000 -> 28.815682 | E17: =SUM('Daily Buybacks'!E5:E36)/1000000 -> 639.91639 | F17: =(E17+E16+E15+E14)/$E$19 -> #REF!
C18: BB to date | D18: =SUM(D14:D17) -> #REF! | E18: =SUM(E14:E17) -> #REF! | F18: =E18/E19 -> #REF!
C19: Expected total BB | E19: 1800
C20: Remaining BB | E20: =E19-E18 -> #REF! | F20: =E20/E19 -> #REF!
